BEGIN:VCALENDAR
VERSION:2.0
PRODID:SchoolNow
CALSCALE:GREGORIAN
BEGIN:VEVENT
UID:5d64a142-ef01-11ef-9820-0affc822515b
DTSTAMP:20250219T203741Z
SUMMARY:Minimum Day Schedule - Early Release @ 2:07 - 3/11 & 3/12
URL;VALUE=URI:https://www.cuesd.com/schools/anderson-middle/calendar/750171
 5/minimum-day-schedule-early-release-2-07-3-11-3-12
DTSTART;VALUE=DATE:20250311
DTEND;VALUE=DATE:20250313
END:VEVENT
END:VCALENDAR
