BEGIN:VCALENDAR
VERSION:2.0
PRODID:SchoolNow
CALSCALE:GREGORIAN
BEGIN:VEVENT
UID:99c0d952-eef8-11ef-bed1-0a58a9feac02
DTSTAMP:20250219T193457Z
SUMMARY:Baseball & Softball Tryouts
URL;VALUE=URI:https://www.cuesd.com/schools/anderson-middle/calendar/750171
 0/baseball-softball-tryouts
DTSTART:20250227T233000Z
DTEND:20250228T003000Z
END:VEVENT
END:VCALENDAR
