BEGIN:VCALENDAR
VERSION:2.0
PRODID:SchoolNow
CALSCALE:GREGORIAN
BEGIN:VEVENT
UID:7490cb24-eef8-11ef-bb23-0a58a9feac02
DTSTAMP:20250219T193354Z
SUMMARY:Baseball & Softball Tryouts
URL;VALUE=URI:https://www.cuesd.com/schools/anderson-middle/calendar/750170
 9/baseball-softball-tryouts
DTSTART:20250226T233000Z
DTEND:20250227T003000Z
END:VEVENT
END:VCALENDAR
