BEGIN:VCALENDAR
VERSION:2.0
PRODID:SchoolNow
CALSCALE:GREGORIAN
BEGIN:VEVENT
UID:4aafbca8-e97a-11ef-9237-0afff75a4e55
DTSTAMP:20250212T194812Z
SUMMARY:Boys Basketball Blue Out
URL;VALUE=URI:https://www.cuesd.com/schools/anderson-middle/calendar/745975
 0/boys-basketball-blue-out
DTSTART:20250213T000000Z
DTEND:20250213T030000Z
END:VEVENT
END:VCALENDAR
