BEGIN:VCALENDAR
VERSION:2.0
PRODID:SchoolNow
CALSCALE:GREGORIAN
BEGIN:VEVENT
UID:26956cb6-b7f5-11ef-991c-0253406a9ab3
DTSTAMP:20250214T004336Z
SUMMARY:President's Week - NO SCHOOL
URL;VALUE=URI:https://www.cuesd.com/schools/anderson-middle/calendar/715644
 5/presidents-week-no-school
DTSTART;VALUE=DATE:20250217
DTEND;VALUE=DATE:20250222
END:VEVENT
END:VCALENDAR
