BEGIN:VCALENDAR
VERSION:2.0
PRODID:SchoolNow
CALSCALE:GREGORIAN
BEGIN:VEVENT
UID:36c6477e-b7f3-11ef-a6b0-020c3805f15b
DTSTAMP:20241211T190749Z
SUMMARY:Martin Luther King Day - No School
URL;VALUE=URI:https://www.cuesd.com/schools/anderson-middle/calendar/715644
 4/martin-luther-king-day-no-school
DTSTART;VALUE=DATE:20250120
DTEND;VALUE=DATE:20250121
END:VEVENT
END:VCALENDAR
