BEGIN:VCALENDAR
VERSION:2.0
PRODID:SchoolNow
CALSCALE:GREGORIAN
BEGIN:VEVENT
UID:b7463dd0-b7f0-11ef-bdff-0edb93b7141b
DTSTAMP:20241211T185120Z
SUMMARY:Winter Break - NO SCHOOL
URL;VALUE=URI:https://www.cuesd.com/schools/anderson-middle/calendar/715644
 3/winter-break
DTSTART:20241220T080000Z
DTEND:20250106T200000Z
END:VEVENT
END:VCALENDAR
