BEGIN:VCALENDAR
VERSION:2.0
PRODID:SchoolNow
CALSCALE:GREGORIAN
BEGIN:VEVENT
UID:bb5c0e56-ece4-11ec-9318-0a05bced7ac9
DTSTAMP:20220615T195248Z
SUMMARY:Minimum Day
LOCATION:AMS
URL;VALUE=URI:https://www.cuesd.com/schools/anderson-middle/calendar/322036
 4/minimum-day
DTSTART;VALUE=DATE:20221216
DTEND;VALUE=DATE:20221217
END:VEVENT
END:VCALENDAR
