BEGIN:VCALENDAR
VERSION:2.0
PRODID:SchoolNow
CALSCALE:GREGORIAN
BEGIN:VEVENT
UID:c62a3172-55ac-11ef-8434-0a58a9feac02
DTSTAMP:20240808T173641Z
SUMMARY:Meadow Lane Open House
LOCATION:Meadow Lane
URL;VALUE=URI:https://www.cuesd.com/calendar/6371799/meadow-lane-open-house
DTSTART:20250522T003000Z
DTEND:20250522T013000Z
END:VEVENT
END:VCALENDAR
